BEGIN:VCALENDAR
VERSION:2.0
PRODID:-//81.169.145.93//NONSGML kigkonsult.se iCalcreator 2.20//
CALSCALE:GREGORIAN
METHOD:PUBLISH
X-WR-TIMEZONE:UTC
BEGIN:VEVENT
UID:event497@Schützengruppe Hohenhorn
DTSTAMP:20260422T225228Z
CATEGORIES:Großkaliber
DESCRIPTION:Großkaliber Langwaffe B2\nKategorie: Großkaliber\nICS-Link: htt
 p://www.sg-hohenhorn.de/index.php?option=com_jem&view=event&id=497:grosska
 liber-langwaffe\n
DTSTART:20190524T160000Z
DTEND:20190524T190000Z
LOCATION:Großkaliberstand\,Zum Schießstand\,21526 Hohenhorn
SUMMARY:Großkaliber Langwaffe B2
URL:http://www.sg-hohenhorn.de/index.php?option=com_jem&view=event&id=497:g
 rosskaliber-langwaffe
END:VEVENT
END:VCALENDAR
