BEGIN:VCALENDAR
VERSION:2.0
PRODID:-//81.169.145.93//NONSGML kigkonsult.se iCalcreator 2.20//
CALSCALE:GREGORIAN
METHOD:PUBLISH
X-WR-TIMEZONE:UTC
BEGIN:VEVENT
UID:event498@Schützengruppe Hohenhorn
DTSTAMP:20260422T225117Z
CATEGORIES:Großkaliber
DESCRIPTION:GK-Kurzwaffe Bahn 3\nKategorie: Großkaliber\nICS-Link: http://w
 ww.sg-hohenhorn.de/index.php?option=com_jem&view=event&id=498:gk-kurzwaffe
 \n
DTSTART:20190511T130000Z
DTEND:20190511T150000Z
LOCATION:Großkaliberstand\,Zum Schießstand\,21526 Hohenhorn
SUMMARY:GK-Kurzwaffe Bahn 3
URL:http://www.sg-hohenhorn.de/index.php?option=com_jem&view=event&id=498:g
 k-kurzwaffe
END:VEVENT
END:VCALENDAR
