BEGIN:VCALENDAR
VERSION:2.0
PRODID:-//81.169.145.93//NONSGML kigkonsult.se iCalcreator 2.20//
CALSCALE:GREGORIAN
METHOD:PUBLISH
X-WR-TIMEZONE:UTC
BEGIN:VEVENT
UID:event550@Schützengruppe Hohenhorn
DTSTAMP:20260421T220903Z
CATEGORIES:Feierlichkeiten
DESCRIPTION:Grillfest\nKategorie: Feierlichkeiten\nICS-Link: http://www.sg-
 hohenhorn.de/index.php?option=com_jem&view=event&id=550:meisterschaft\n
DTSTART:20250711T180000Z
DTEND:20250711T230000Z
LOCATION:Schützenhaus\,Twiete 5\,21526 Hohenhorn
SUMMARY:Grillfest
URL:http://www.sg-hohenhorn.de/index.php?option=com_jem&view=event&id=550:m
 eisterschaft
END:VEVENT
END:VCALENDAR
